BEGIN:VCALENDAR
VERSION:2.0
PRODID:-//Contratero//ES
CALSCALE:GREGORIAN
METHOD:PUBLISH
BEGIN:VEVENT
UID:48/2022 SV PASS@contratero.es
DTSTAMP:20260422T215118Z
DTSTART:20220808T235959
DTEND:20220809T005959
SUMMARY:Cierre: Prestación de los servicios de "Digitalización\, in
DESCRIPTION:Prestación de los servicios de "Digitalización\, indexación\, proceso de OCR y creación de recursos digitales de los Boletines Oficiales de la Provincia de Caceres  que faltan por digitalizar y que se c...\\n\\nOrganismo: Presidencia de la Diputación Provincial de Cáceres\\n\\nVer en Contratero: https://contratero.es/contracts/48/2022 SV PASS
URL:https://contratero.es/contracts/48/2022 SV PASS
STATUS:CONFIRMED
BEGIN:VALARM
TRIGGER:-P1D
ACTION:DISPLAY
DESCRIPTION:Recordatorio: Prestación de los servicios de
END:VALARM
END:VEVENT
END:VCALENDAR